BEGIN:VCALENDAR
VERSION:2.0
PRODID:-//Tukios.com/
BEGIN:VEVENT
UID:ce3ccfc6-6cdc-42f8-9726-edf64263620a@www.divinefuneralservicesvi.com
DTSTAMP:20260422T013910Z
DTSTART:20260508T140000Z
DTEND:20260508T150000Z
SUMMARY:Funeral Service
DESCRIPTION:
URL:https://www.divinefuneralservicesvi.com/obituaries/ralph-hospedales
LOCATION: #42 Barrenspot  Christiansted VI 00820
GEO:17.7445481;-64.7059208
END:VEVENT
END:VCALENDAR