BEGIN:VCALENDAR
VERSION:2.0
PRODID:-//Tukios.com/
BEGIN:VEVENT
UID:0908f2c1-e800-479f-8c01-62d0cea26905@www.divinefuneralservicesvi.com
DTSTAMP:20260422T013920Z
DTSTART:20260508T130000Z
DTEND:20260508T140000Z
SUMMARY:Viewing
DESCRIPTION:
URL:https://www.divinefuneralservicesvi.com/obituaries/ralph-hospedales
LOCATION: #42 Barrenspot  Christiansted VI 00820
GEO:17.7445481;-64.7059208
END:VEVENT
END:VCALENDAR