BEGIN:VCALENDAR
VERSION:2.0
PRODID:-//Tukios.com/
BEGIN:VEVENT
UID:5910c794-bf3d-42f7-90f2-3b652d66100c@www.divinefuneralservicesvi.com
DTSTAMP:20260422T014239Z
DTSTART:20260507T190000Z
DTEND:20260507T210000Z
SUMMARY:Viewing
DESCRIPTION:
URL:https://www.divinefuneralservicesvi.com/obituaries/ralph-hospedales
LOCATION:Divine Chapel #129 Peter's Rest  Christiansted VI 00820
GEO:17.725369;-64.7351538
END:VEVENT
END:VCALENDAR