BEGIN:VCALENDAR
VERSION:2.0
PRODID:-//Tukios.com/
BEGIN:VEVENT
UID:185c7dad-9c4f-4b00-bde7-0be9673eb898@www.divinefuneralservicesvi.com
DTSTAMP:20260422T013501Z
DTSTART:20260504T140000Z
DTEND:20260504T150000Z
SUMMARY:Funeral Service
DESCRIPTION:
URL:https://www.divinefuneralservicesvi.com/obituaries/mabel-powell
LOCATION: 17-A Estate Plessen  Grove Place VI 00840
GEO:17.7199751;-64.8230942
END:VEVENT
END:VCALENDAR