BEGIN:VCALENDAR
VERSION:2.0
PRODID:-//Tukios.com/
BEGIN:VEVENT
UID:d2de925d-7c73-495d-8909-d6911bc27b6a@www.divinefuneralservicesvi.com
DTSTAMP:20260422T012912Z
DTSTART:20260504T130000Z
DTEND:20260504T140000Z
SUMMARY:Viewing
DESCRIPTION:
URL:https://www.divinefuneralservicesvi.com/obituaries/mabel-powell
LOCATION: 17-A Estate Plessen  Grove Place VI 00840
GEO:17.7199751;-64.8230942
END:VEVENT
END:VCALENDAR