BEGIN:VCALENDAR
VERSION:2.0
PRODID:-//Tukios.com/
BEGIN:VEVENT
UID:c0bd68a1-678d-41d0-b99e-e73e1f0244a9@www.divinefuneralservicesvi.com
DTSTAMP:20260425T011801Z
DTSTART:20260430T140000Z
DTEND:20260430T150000Z
SUMMARY:Funeral Service
DESCRIPTION:
URL:https://www.divinefuneralservicesvi.com/obituaries/laurina-dalsan
LOCATION:St. Ann’s Catholic Church #42 Barrenspot  Christiansted VI 
	00820
GEO:17.7445481;-64.7059208
END:VEVENT
END:VCALENDAR