BEGIN:VCALENDAR
VERSION:2.0
PRODID:-//Tukios.com/
BEGIN:VEVENT
UID:ccdadc40-097c-49cf-b656-71664a53dce9@www.divinefuneralservicesvi.com
DTSTAMP:20260425T010959Z
DTSTART:20260430T130000Z
DTEND:20260430T140000Z
SUMMARY:Viewing
DESCRIPTION:
URL:https://www.divinefuneralservicesvi.com/obituaries/laurina-dalsan
LOCATION:St. Ann’s Catholic Church #42 Barrenspot  Christiansted VI 
	00820
GEO:17.7445481;-64.7059208
END:VEVENT
END:VCALENDAR