BEGIN:VCALENDAR
VERSION:2.0
PRODID:-//Tukios.com/
BEGIN:VEVENT
UID:1120bbbf-45c8-4ef4-8518-9dfb1ea6f5f2@www.divinefuneralservicesvi.com
DTSTAMP:20260421T112805Z
DTSTART:20260501T140000Z
DTEND:20260501T150000Z
SUMMARY:Funeral Service
DESCRIPTION:
URL:https://www.divinefuneralservicesvi.com/obituaries/charles-nathaniel
LOCATION: P6GC+G7C Eddie Ortiz Drive Clifton Hill Kingshill VI 00850
GEO:17.7263125;-64.7793594
END:VEVENT
END:VCALENDAR