BEGIN:VCALENDAR
VERSION:2.0
PRODID:-//Tukios.com/
BEGIN:VEVENT
UID:04dc30ba-ed6e-40ed-95da-f3015bc0a903@www.divinefuneralservicesvi.com
DTSTAMP:20260421T112935Z
DTSTART:20260501T130000Z
DTEND:20260501T140000Z
SUMMARY:Viewing
DESCRIPTION:
URL:https://www.divinefuneralservicesvi.com/obituaries/charles-nathaniel
LOCATION:Original Pentecostal Church P6GC+G7C Eddie Ortiz Drive Clifton 
	Hill Kingshill VI 00850
GEO:17.7263125;-64.7793594
END:VEVENT
END:VCALENDAR