BEGIN:VCALENDAR
VERSION:2.0
PRODID:-//Tukios.com/
BEGIN:VEVENT
UID:5984e5a8-8277-45f2-8ed8-141836dc636f@www.divinefuneralservicesvi.com
DTSTAMP:20260421T112859Z
DTSTART:20260423T150000Z
DTEND:20260423T160000Z
SUMMARY:Funeral Service
DESCRIPTION:
URL:https://www.divinefuneralservicesvi.com/obituaries/audrey-lewis
LOCATION:Apostolic Faith Mission 487 Strawberry Hill Drive  Kingshill VI 
	00850
GEO:17.7327902;-64.7595226
END:VEVENT
END:VCALENDAR