BEGIN:VCALENDAR
VERSION:2.0
PRODID:-//Tukios.com/
BEGIN:VEVENT
UID:e3fde41e-9577-4ec9-8bda-b8e032a62b3a@www.divinefuneralservicesvi.com
DTSTAMP:20260421T112702Z
DTSTART:20260423T140000Z
DTEND:20260423T150000Z
SUMMARY:Viewing
DESCRIPTION:
URL:https://www.divinefuneralservicesvi.com/obituaries/audrey-lewis
LOCATION:Apostolic Faith Mission 487 Strawberry Hill Drive  Kingshill VI 
	00850
GEO:17.7327902;-64.7595226
END:VEVENT
END:VCALENDAR