BEGIN:VCALENDAR
VERSION:2.0
PRODID:-//Tukios.com/
BEGIN:VEVENT
UID:608c9446-545e-49d2-87e6-ef5503de822e@www.divinefuneralservicesvi.com
DTSTAMP:20260421T113215Z
DTSTART:20260423T190000Z
DTEND:20260423T210000Z
SUMMARY:Viewing
DESCRIPTION:
URL:https://www.divinefuneralservicesvi.com/obituaries/audrey-lewis
LOCATION:Divine Chapel #129 Peter's Rest  Christiansted VI 00820
GEO:17.725369;-64.7351538
END:VEVENT
END:VCALENDAR